BEGIN:VCALENDAR
VERSION:2.0
METHOD:PUBLISH
X-WR-CALNAME:Tamaki Primary |  October 01 2016- November 01 2016
PRODID:-//strange bird labs//Drupal iCal API//EN
BEGIN:VEVENT
DTSTAMP;VALUE=DATE-TIME:20181222T022737Z
DTSTART;VALUE=DATE-TIME:20161009T204700Z
DTEND;VALUE=DATE-TIME:20020203
UID:http://tamakiprimary.school.nz/term-4-begins-0
URL;VALUE=URI:http://tamakiprimary.school.nz/term-4-begins-0
SUMMARY:Term 4 Begins
END:VEVENT
BEGIN:VEVENT
DTSTAMP;VALUE=DATE-TIME:20181222T022737Z
DTSTART;VALUE=DATE-TIME:20161023T204800Z
DTEND;VALUE=DATE-TIME:20020203
UID:http://tamakiprimary.school.nz/labour-day
URL;VALUE=URI:http://tamakiprimary.school.nz/labour-day
SUMMARY:Labour Day
END:VEVENT
BEGIN:VEVENT
DTSTAMP;VALUE=DATE-TIME:20181222T022737Z
DTSTART;VALUE=DATE-TIME:20161026T204800Z
DTEND;VALUE=DATE-TIME:20020203
UID:http://tamakiprimary.school.nz/bot-meeting
URL;VALUE=URI:http://tamakiprimary.school.nz/bot-meeting
SUMMARY:BOT Meeting
END:VEVENT
END:VCALENDAR
